BEGIN:VCALENDAR
VERSION:2.0
PRODID:-//Scoutkåren Gustaf Vasa-Bredäng - ECPv6.15.20//NONSGML v1.0//EN
CALSCALE:GREGORIAN
METHOD:PUBLISH
X-WR-CALNAME:Scoutkåren Gustaf Vasa-Bredäng
X-ORIGINAL-URL:https://gvb.nu
X-WR-CALDESC:Händelser för Scoutkåren Gustaf Vasa-Bredäng
REFRESH-INTERVAL;VALUE=DURATION:PT1H
X-Robots-Tag:noindex
X-PUBLISHED-TTL:PT1H
BEGIN:VTIMEZONE
TZID:Europe/Stockholm
BEGIN:DAYLIGHT
TZOFFSETFROM:+0100
TZOFFSETTO:+0200
TZNAME:CEST
DTSTART:20250330T010000
END:DAYLIGHT
BEGIN:STANDARD
TZOFFSETFROM:+0200
TZOFFSETTO:+0100
TZNAME:CET
DTSTART:20251026T010000
END:STANDARD
BEGIN:DAYLIGHT
TZOFFSETFROM:+0100
TZOFFSETTO:+0200
TZNAME:CEST
DTSTART:20260329T010000
END:DAYLIGHT
BEGIN:STANDARD
TZOFFSETFROM:+0200
TZOFFSETTO:+0100
TZNAME:CET
DTSTART:20261025T010000
END:STANDARD
BEGIN:DAYLIGHT
TZOFFSETFROM:+0100
TZOFFSETTO:+0200
TZNAME:CEST
DTSTART:20270328T010000
END:DAYLIGHT
BEGIN:STANDARD
TZOFFSETFROM:+0200
TZOFFSETTO:+0100
TZNAME:CET
DTSTART:20271031T010000
END:STANDARD
END:VTIMEZONE
BEGIN:VEVENT
DTSTART;VALUE=DATE:20260424
DTEND;VALUE=DATE:20260427
DTSTAMP:20260424T084347
CREATED:20260110T122754Z
LAST-MODIFIED:20260423T220722Z
UID:7596-1776988800-1777247999@gvb.nu
SUMMARY:Busy
DESCRIPTION:
URL:https://gvb.nu/kalender/busy-104/
CATEGORIES:Pettersberg
END:VEVENT
BEGIN:VEVENT
DTSTART;VALUE=DATE:20260424
DTEND;VALUE=DATE:20260427
DTSTAMP:20260424T084347
CREATED:20260202T151846Z
LAST-MODIFIED:20260412T184730Z
UID:7673-1776988800-1777247999@gvb.nu
SUMMARY:Arbetshelg Petters
DESCRIPTION:
URL:https://gvb.nu/kalender/arbetshelg-petters-2/
CATEGORIES:Kåren
END:VEVENT
END:VCALENDAR